BEGIN:VCALENDAR
PRODID:NingEventWidget-v1
VERSION:2.0
METHOD:PUBLISH
BEGIN:VEVENT
UID:2709308:Event:552868
DTSTAMP:20260419T071153Z
SUMMARY:2da Edic. Diplomado Virtual: Informática Educativa y TIC en e
 l Aula
DESCRIPTION:2da Edición del Diplomado 100% virtual - Resolución N° 
 027-2016-PCO-UMB Inscripciones: https://goo.gl/x9lrHi\nMayor informaci
 ón:http://goo.gl/OQ5A4m\nInicio de clases: 25 de Julio\nDuración: 4 
 Módulo de 6 semanas c/u\nCertificación: Diplomado en : Informática 
 Educativa y TIC en el AULA - 640 horas\n\nPara más información visit
 a https://reddolac.org/events/2da-edic-diplomado-virtual-inform-tica-e
 ducativa-y-tic-en-el-aula
DTSTART:20160710T230000Z
DTEND:20160711T000000Z
CATEGORIES:diplomado, virtual
LOCATION:CHICLAYO
WEBSITE:http://goo.gl/OQ5A4m
URL:http://goo.gl/OQ5A4m
CONTACT:#943830452
ORGANIZER:ASOCIACIÓN EDUCATIVA GÉNESIS
ATTACH;FMTTYPE="image/jpeg":http://storage.ning.com/topology/rest/1.0/
 file/get/2826703050?profile=original
ATTENDEE;ROLE=REQ-PARTICIPANT;PARTSTAT=ACCEPTED;RSVP=TRUE;CN="Freddy R
 onal Benavidez Núñez":https://reddolac.org/profile/frebenu
END:VEVENT
END:VCALENDAR
