BEGIN:VCALENDAR
PRODID:NingEventWidget-v1
VERSION:2.0
METHOD:PUBLISH
BEGIN:VEVENT
UID:2709308:Event:649925
DTSTAMP:20260419T071924Z
SUMMARY:4to Conversatorio de Disruptiva sobre la educación Latinoamer
 icana y los esfuerzos por elevarla
DESCRIPTION:\"Porque la mediocridad no debe triunfar...\" Se viene el 
 4to Conversatorio de Disruptiva sobre la educación Latinoamericana y 
 los esfuerzos por elevarla con la intervención de reconocidos exposit
 ores internacionales.\nRegistrate: https://goo.gl/forms/vzCmG14zjuTI5W
 Nk2 Mayor información en la pagina: http://bit.ly/4toconversatorio\n#
 disruptiva #gegbolivia #generaknow #moocbo\n\nPara más información v
 isita https://reddolac.org/events/4to-conversatorio-de-disruptiva-sobr
 e-la-educaci-n
DTSTART:20180601T003000Z
DTEND:20180601T023000Z
CATEGORIES:webinar, gratuito
LOCATION:Disruptiva
WEBSITE:http://bit.ly/4toconversatorio
URL:http://bit.ly/4toconversatorio
CONTACT:
ORGANIZER;CN="Jose Antonio Santander Figueredo":https://reddolac.org/p
 rofile/JoseAntonioSantanderFigueredo
ATTACH;FMTTYPE="image/jpeg":http://storage.ning.com/topology/rest/1.0/
 file/get/2804429145?profile=original
ATTENDEE;ROLE=REQ-PARTICIPANT;PARTSTAT=ACCEPTED;RSVP=TRUE;CN="Jose Ant
 onio Santander Figueredo":https://reddolac.org/profile/JoseAntonioSant
 anderFigueredo
END:VEVENT
END:VCALENDAR
