BEGIN:VCALENDAR
PRODID:NingEventWidget-v1
VERSION:2.0
METHOD:PUBLISH
BEGIN:VEVENT
UID:2709308:Event:2273931
DTSTAMP:20260422T081922Z
SUMMARY:Actualización de Norma APA 7.0
DESCRIPTION:https://www.youtube.com/channel/UCLl45JeAvdOvVQuptk4C7oQ/l
 ive.\nEste evento es externo a mi Institución pero abierto a todo doc
 ente que quiera actualizarse en la norma APA,\nSaludos\n\nPara más in
 formación visita https://reddolac.org/events/actualizaci-n-de-norma-a
 pa-7-0
DTSTART:20201117T190000Z
DTEND:20201117T200000Z
CATEGORIES:charlas, académicas
LOCATION:\"Uned\" Costa Rica
WEBSITE:https://www.uned.ac.cr/
URL:https://www.uned.ac.cr/
CONTACT:(506) 2527-2000
ORGANIZER:UNED Costa Rica
ATTACH;FMTTYPE="image/jpeg":https://storage.ning.com/topology/rest/1.0
 /file/get/8171369099?profile=original
ATTENDEE;ROLE=REQ-PARTICIPANT;PARTSTAT=ACCEPTED;RSVP=TRUE;CN="Zaira Ru
 th Zuviría López":https://reddolac.org/profile/ZairaRuthZuviriaLopez
END:VEVENT
END:VCALENDAR
