BEGIN:VCALENDAR
PRODID:NingEventWidget-v1
VERSION:2.0
METHOD:PUBLISH
BEGIN:VEVENT
UID:2709308:Event:350121
DTSTAMP:20260420T042743Z
SUMMARY:Concurso estatal de prototipos DGETI 2014
DESCRIPTION:Evento estatal donde se presentan prototipos generados por
  alumnos y docentes del subsistema DGETI. las modalidades son prototip
 o didáctico, de emprendedores, tecnológico y ambiental\n\nPara más 
 información visita https://reddolac.org/events/concurso-estatal-de-pr
 ototipos-dgeti-2014
DTSTART:20140219T050000Z
DTEND:20140222T045900Z
CATEGORIES:concurso
LOCATION:Hotel san miguel
WEBSITE:
URL:
CONTACT:
ORGANIZER:DGETI_Michoacán
ATTACH;FMTTYPE="image/jpeg":
ATTENDEE;ROLE=REQ-PARTICIPANT;PARTSTAT=ACCEPTED;RSVP=TRUE;CN="Marco An
 tonio Alanís Martínez":https://reddolac.org/profile/MarcoAntonioAlan
 isMartinez
END:VEVENT
END:VCALENDAR
