BEGIN:VCALENDAR
PRODID:NingEventWidget-v1
VERSION:2.0
METHOD:PUBLISH
BEGIN:VEVENT
UID:2709308:Event:2323786
DTSTAMP:20260423T133031Z
SUMMARY:Curso Intensivo sobre Conferencias Web para Clases en Vivo
DESCRIPTION:El Curso Intensivo sobre Conferencias Web para Clases en V
 ivo cumple con los siguientes objetivos:\n    • Identificar herram
 ientas de comunicación sincrónica y sus características para clases
  online en vivo.    • Manejar funcionalidades de herramientas de c
 onferencias web para dar clases online en vivo.    • Planificar y 
 dar una clase sincrónica, online en vivo con una herramienta de confe
 rencia web.\n\nCarga horaria: 30 horas, con acceso durante 2 meses.\nI
 nicio diario\nCertificado por Net-Learning.\n¡Nueva modalidad de cert
 ificación 2022! Con la aprobación del curso, los participantes recib
 irán un certificado verificable e insignias o micro credenciales que 
 podrán publicar en LinkedIn. Esto permitirá demostrar las competenci
 as desarrolladas y así aumentar sus posibilidades de empleo con la ce
 rtificación de Net-Learning.\n\nMás información en Curso Intensivo 
 sobre Conferencias Web para Clases en Vivo\n\nConsultas: info@net-lear
 ning.com.ar WhatsApp: 54 11 4464 0350\n\nPara más información visita
  https://reddolac.org/events/curso-intensivo-sobre-conferencias-web-pa
 ra-clases-en-vivo
DTSTART:20220316T230000Z
DTEND:20221116T000000Z
CATEGORIES:curso, online, plataformas, e-learning, diploma, diplomatur
 a, diseño
LOCATION:Internet - Se cursa ONLINE - Sin asistencia presencial ni hor
 arios fijos
WEBSITE:https://www.net-learning.com.ar/curso/curso-intensivo-sobre-co
 nferencias-web-para-clases-en-vivo
URL:https://www.net-learning.com.ar/curso/curso-intensivo-sobre-confer
 encias-web-para-clases-en-vivo
CONTACT:+54 911 3780 8751
ORGANIZER;CN="Susana Trabaldo":https://reddolac.org/profile/SusanaTrab
 aldo
ATTACH;FMTTYPE="image/jpeg":https://storage.ning.com/topology/rest/1.0
 /file/get/9069250069?profile=original
ATTENDEE;ROLE=REQ-PARTICIPANT;PARTSTAT=ACCEPTED;RSVP=TRUE;CN="Susana T
 rabaldo":https://reddolac.org/profile/SusanaTrabaldo
END:VEVENT
END:VCALENDAR
