BEGIN:VCALENDAR
PRODID:NingEventWidget-v1
VERSION:2.0
METHOD:PUBLISH
BEGIN:VEVENT
UID:2709308:Event:562885
DTSTAMP:20260420T042919Z
SUMMARY:Curso Online Gestión de Proyectos para E-Learning
DESCRIPTION:El curso “Gestión de Proyectos de E-Learning” brinda 
 un panorama básico de los requisitos para armar una propuesta de e-le
 arning (etapas, equipo, procesos, finanzas y gestión de la calidad). 
 Está certificado por la Universidad Tecnológica Nacional (certificad
 o en formato digital únicamente). Más información en: http://www.ne
 t-learning.com.ar/7-gerenciamiento-de-proyectos-de-e-learning. Para in
 scribirte deberás hacer clic en el botón “Inscríbete”. Allí de
 berás completar un breve formulario luego de lo cual recibirás un co
 rreo para confirmar tu inscripción y crear tu usuario y contraseña, 
 con los cuales luego podrás ingresar al aula virtual.\nIMPORTANTE: Es
 te curso da créditos para el Experto Universitario en Implementación
  de Proyectos de e-Learning, el cual consta de cinco cursos. Aquí pue
 des ver el programa del Experto: http://www.net-learning.com.ar/17-exp
 erto-universitario-en-implementacion-de-proyectos-de-e-learning\n\nPar
 a más información visita https://reddolac.org/events/curso-online-ge
 sti-n-de-proyectos-para-e-learning
DTSTART:20161006T170000Z
DTEND:20161110T170000Z
CATEGORIES:online, calidad, e-learning, educación, virtual, iso
LOCATION:Internet - Se cursa ONLINE - Sin asistencia presencial ni hor
 arios fijos.
WEBSITE:http://net-learning.com.ar/7-gestion-de-proyectos-de-e-learnin
 g-
URL:http://net-learning.com.ar/7-gestion-de-proyectos-de-e-learning-
CONTACT:
ORGANIZER;CN="Susana Trabaldo":https://reddolac.org/profile/SusanaTrab
 aldo
ATTACH;FMTTYPE="image/jpeg":
ATTENDEE;ROLE=REQ-PARTICIPANT;PARTSTAT=ACCEPTED;RSVP=TRUE;CN="Susana T
 rabaldo":https://reddolac.org/profile/SusanaTrabaldo
END:VEVENT
END:VCALENDAR
