BEGIN:VCALENDAR
PRODID:NingEventWidget-v1
VERSION:2.0
METHOD:PUBLISH
BEGIN:VEVENT
UID:2709308:Event:657634
DTSTAMP:20260423T132924Z
SUMMARY:Curso online: \"Instalación y Administración de Moodle\"
DESCRIPTION:El curso \"Instalación y Administración de Moodle\" cump
 le con los siguientes objetivos:\n\nInstalar la plataforma Moodle en u
 n host local Windows y configurar su apariencia.\nConocer y configurar
  las herramientas necesarias para poder administrarla.\n\nCarga horari
 a: 50 horas, con acceso durante 2 meses.\nInicio diario.\nCertificado 
 por Net-Learning.\n¡Nueva modalidad de certificación 2022! Con la ap
 robación del curso, los participantes recibirán un certificado verif
 icable e insignias o micro credenciales que podrán publicar en Linked
 In. Esto permitirá demostrar las competencias desarrolladas y así au
 mentar sus posibilidades de empleo con la certificación de Net-Learni
 ng.\nEste curso otorga créditos para el Diploma en E-Learning con Moo
 dle y Recursos Open Source que consta de 4 cursos.\n\nMás informació
 n: Instalación y Administración de Moodle\n\nConsultas:\ninfo@net-le
 arning.com.ar\nWhatsApp: +54 911 3780 8751\n\nPara más información v
 isita https://reddolac.org/events/curso-online-instalaci-n-y-administr
 aci-n-de-moodle-2
DTSTART:20220315T170000Z
DTEND:20221115T170000Z
CATEGORIES:curso, online, plataformas, e-learning, diploma, diplomatur
 a, diseño
LOCATION:Internet - Se cursa ONLINE - Sin asistencia presencial ni hor
 arios fijos
WEBSITE:http://www.net-learning.com.ar/5-instalacion-y-administracion-
 de-moodle
URL:http://www.net-learning.com.ar/5-instalacion-y-administracion-de-m
 oodle
CONTACT:+54 911 3780 8751
ORGANIZER;CN="Susana Trabaldo":https://reddolac.org/profile/SusanaTrab
 aldo
ATTACH;FMTTYPE="image/jpeg":https://storage.ning.com/topology/rest/1.0
 /file/get/1437163159?profile=original
ATTENDEE;ROLE=REQ-PARTICIPANT;PARTSTAT=ACCEPTED;RSVP=TRUE;CN="Susana T
 rabaldo":https://reddolac.org/profile/SusanaTrabaldo
ATTENDEE;ROLE=REQ-PARTICIPANT;PARTSTAT=ACCEPTED;RSVP=TRUE;CN="Jeannett
  Sanamaría Acosta":https://reddolac.org/profile/JeannettSanamariaAcos
 ta
END:VEVENT
END:VCALENDAR
