BEGIN:VCALENDAR
PRODID:NingEventWidget-v1
VERSION:2.0
METHOD:PUBLISH
BEGIN:VEVENT
UID:2709308:Event:654233
DTSTAMP:20260419T092707Z
SUMMARY:DERECHO, CIENCIAS POLÍTICAS Y SOCIEDAD I CONFERENCIA INTERNAC
 IONAL DE DIALOGO POLÍTICO-JURÍDICO TRASATLÁNTICO
DESCRIPTION:La Universidad de Holguín (Cuba), con el coauspicio de la
  Fundación Alternativas (España) y la Red Iberoamericana de Investig
 ación Interuniversitaria para el diálogo jurídico entre Europa y Am
 érica (REDIJEA) de la AUIP y con sede en la Universidad de Girona (Es
 paña), se complacen en invitarles a la I Conferencia Internacional de
  diálogo político-jurídico trasatlántico “Derecho, Ciencias Pol
 ticas y Sociedad”. CONVOCATORIA%20A%20LA%20I%20CONFERENCIA%20DERECH
 O%2CCIENCIAS%20POL%C3%8DTICAS%20Y%20SOCIEDAD%20word.pdf\n\nPara más i
 nformación visita https://reddolac.org/events/derecho-ciencias-pol-ti
 cas-y-sociedad-i-conferencia-internacional
DTSTART:20180608T230000Z
DTEND:20180609T000000Z
CATEGORIES:internacional
LOCATION:Hotel Playa Pesquero, Holguin, Cuba
WEBSITE:
URL:
CONTACT:
ORGANIZER:Universidad de Holguin
ATTACH;FMTTYPE="image/jpeg":
ATTENDEE;ROLE=REQ-PARTICIPANT;PARTSTAT=ACCEPTED;RSVP=TRUE;CN="Liliana 
 Yamile De la Rosa Aguila":https://reddolac.org/profile/LilianaYamileDe
 laRosaAguila
END:VEVENT
END:VCALENDAR
