BEGIN:VCALENDAR
PRODID:NingEventWidget-v1
VERSION:2.0
METHOD:PUBLISH
BEGIN:VEVENT
UID:2709308:Event:353020
DTSTAMP:20260423T133058Z
SUMMARY:Diploma Universitario en Diseño Didáctico Instruccional para
  E-Learning
DESCRIPTION:El Diploma Universitario en Diseño Didáctico Instruccion
 al para E-Learning tiene una duración de 3 meses (150 horas cátedra)
  y tiene por finalidad formar diseñadores instruccionales desde diver
 sas perspectivas didáctico-tecnológicas para adecuarse a los requeri
 mientos actuales de la formación virtual. Pone acento en las mejores 
 prácticas en cuanto al diseño de cursos en-línea.\nAl finalizar el 
 diploma podrás:\n\nDiseñar procesos formativos online según estánd
 ares internacionales y mejores prácticas de la industria del e-learni
 ng.\nDiagnosticar necesidades formativas y guionar objetos de aprendiz
 aje.\nDeterminar usabilidad del material centrándose en fundamentos c
 ognitivos.\nDesarrollar un material digital en una herramienta de auto
 r.\nInterpretar el uso del estándar SCORM.\n\nCertificado por Net-Lea
 rning y la Universidad Católica de Salta.\n¡Nueva modalidad de certi
 ficación 2022! Con la aprobación del Diploma, los participantes reci
 birán un certificado verificable e insignias o micro credenciales que
  podrán publicar en LinkedIn. Esto permitirá demostrar las competenc
 ias desarrolladas y así aumentar sus posibilidades de empleo con la c
 ertificación de Net-Learning.\n\nMás información: Diploma Universit
 ario en Diseño Didáctico Instruccional para E-Learning\n\nConsultas:
 \ninfo@net-learning.com.ar\nWhatsApp: +54 911 3780 8751\n\nPara más i
 nformación visita https://reddolac.org/events/diploma-universitario-e
 n-dise-o-did-ctico-instruccional-para-e-1
DTSTART:20220906T170000Z
DTEND:20221205T170000Z
CATEGORIES:diploma, online, diseño, instruccional, para, e-learning
LOCATION:Internet - Se cursa ONLINE - Sin asistencia presencial ni hor
 arios fijos.
WEBSITE:http://www.net-learning.com.ar/20-diploma-universitario-en-dis
 eno-didactico-instruccional-para-e-learning
URL:http://www.net-learning.com.ar/20-diploma-universitario-en-diseno-
 didactico-instruccional-para-e-learning
CONTACT:+54 911 3780 8751
ORGANIZER;CN="Susana Trabaldo":https://reddolac.org/profile/SusanaTrab
 aldo
ATTACH;FMTTYPE="image/jpeg":https://storage.ning.com/topology/rest/1.0
 /file/get/1741556398?profile=original
ATTENDEE;ROLE=REQ-PARTICIPANT;PARTSTAT=ACCEPTED;RSVP=TRUE;CN="Susana T
 rabaldo":https://reddolac.org/profile/SusanaTrabaldo
ATTENDEE;ROLE=REQ-PARTICIPANT;PARTSTAT=ACCEPTED;RSVP=TRUE;CN="Vicente 
 Morocho Malla":https://reddolac.org/profile/VicenteMorochoMalla
ATTENDEE;ROLE=REQ-PARTICIPANT;PARTSTAT=ACCEPTED;RSVP=TRUE;CN="Zenon He
 rnandez":https://reddolac.org/profile/ZenonHernandez
END:VEVENT
END:VCALENDAR
