BEGIN:VCALENDAR
PRODID:NingEventWidget-v1
VERSION:2.0
METHOD:PUBLISH
BEGIN:VEVENT
UID:2709308:Event:655025
DTSTAMP:20260423T133155Z
SUMMARY:Diplomatura Universitaria en DiseÃ±o, GestiÃ³n y EvaluaciÃ³n d
 e Proyectos de E-Learning y FormaciÃ³n Virtual
DESCRIPTION:La Diplomatura Universitaria en DiseÃ±o, GestiÃ³n y Evalua
 ciÃ³n de Proyectos de E-Learning y FormaciÃ³n Virtual, con una duraciÃ
 ³n de 4 meses (16 semanas) tiene como objetivos:\n\nCaracterizar las p
 rincipales tendencias del e-learning para satisfacer las necesidades d
 e formaciÃ³n de usuarios, organizaciones e instituciones.\nDefinir pro
 cesos y decisiones para el gerenciamiento e implementaciÃ³n de proyect
 os de e-learning.\nValorar la importancia del rol del tutor en la crea
 ciÃ³n de una comunidad virtual de aprendizaje a travÃ©s de la descripc
 iÃ³n y el ejercicio de distintas situaciones de enseÃ±anza.\nDescribir
  las posibilidades que ofrecen las conferencias web para su selecciÃ³n
  e implementaciÃ³n en un proyecto de e-learning o blended learning.\nV
 alorar la importancia del diseÃ±o instruccional en el anÃ¡lisis y sele
 cciÃ³n de recursos para un curso de E-learning.\nExplorar las potencia
 lidades de las herramientas open source y de pago para la elaboraciÃ³n
  de materiales digitales para E-learning.\nAnalizar los aspectos tecno
 lÃ³gicos necesarios para la implementaciÃ³n de un proyecto de e-learni
 ng.\nDefinir los criterios para la selecciÃ³n de una plataforma virtua
 l de aprendizaje que se adapte a las necesidades del proyecto.\nAnaliz
 ar la gestiÃ³n de la calidad de un proyecto de e-learning.\nElaborar e
 l plan de un proyecto de capacitaciÃ³n online donde se integren las pe
 rspectivas organizativas, estratÃ©gicas, pedagÃ³gicas y tecnolÃ³gicas.
 \n\nCertificado por Net-Learning y la Universidad CatÃ³lica de Salta.\
 nÂ¡Nueva modalidad de certificaciÃ³n 2022! Con la aprobaciÃ³n de la Di
 plomatura, los participantes recibirÃ¡n un certificado verificable e i
 nsignias o micro credenciales que podrÃ¡n publicar en LinkedIn. Esto p
 ermitirÃ¡ demostrar las competencias desarrolladas y asÃ­ aumentar sus
  posibilidades de empleo con la certificaciÃ³n de Net-Learning.\n\nMÃ¡
 s informaciÃ³n: Diplomatura Universitaria en DiseÃ±o, GestiÃ³n y Evalu
 aciÃ³n de Proyectos de E-Learning y FormaciÃ³n Virtual\n\nConsultas:\n
 info@net-learning.com.ar\nWhatsApp: +54 911 3780 8751\n\nPara mÃ¡s inf
 ormaciÃ³n visita https://reddolac.org/events/diplomatura-universitaria
 -en-dise-o-gesti-n-y-evaluaci-n-de
DTSTART:20220811T030000Z
DTEND:20221201T030000Z
CATEGORIES:curso, online, plataformas, e-learning, diploma, diplomatur
 a, diseÃ±o
LOCATION:Internet - Se cursa ONLINE - Sin asistencia presencial ni hor
 arios fijos
WEBSITE:http://www.net-learning.com.ar/19-diplomatura-universitaria-en
 -diseno-gestion-y-evaluacion-de-proyectos-de-e-learning-y-formacion-vi
 rtual
URL:http://www.net-learning.com.ar/19-diplomatura-universitaria-en-dis
 eno-gestion-y-evaluacion-de-proyectos-de-e-learning-y-formacion-virtua
 l
CONTACT:+54 911 3780 8751
ORGANIZER;CN="Susana Trabaldo":https://reddolac.org/profile/SusanaTrab
 aldo
ATTACH;FMTTYPE="image/jpeg":https://storage.ning.com/topology/rest/1.0
 /file/get/1437376288?profile=original
ATTENDEE;ROLE=REQ-PARTICIPANT;PARTSTAT=ACCEPTED;RSVP=TRUE;CN="Susana T
 rabaldo":https://reddolac.org/profile/SusanaTrabaldo
ATTENDEE;ROLE=REQ-PARTICIPANT;PARTSTAT=ACCEPTED;RSVP=TRUE;CN="Yamaris 
 Fis De la Rosa":https://reddolac.org/profile/YamarisFisDelaRosa
ATTENDEE;ROLE=REQ-PARTICIPANT;PARTSTAT=TENTATIVE;RSVP=TRUE;CN="MarÃ­a 
 Isabel DÃ­az SabÃ¡n":https://reddolac.org/profile/MariaIsabelDiazSaban
END:VEVENT
END:VCALENDAR
