BEGIN:VCALENDAR
PRODID:NingEventWidget-v1
VERSION:2.0
METHOD:PUBLISH
BEGIN:VEVENT
UID:2709308:Event:2274130
DTSTAMP:20260422T095943Z
SUMMARY:HERRAMIENTAS CREATIVAS PARA DESARROLLAR PROYECTOS DE IMPACTO
DESCRIPTION:SEMINARIO DE INNOVACION social\n\nPara más información v
 isita https://reddolac.org/events/herramientas-creativas-para-desarrol
 lar-proyectos-de-impacto-1
DTSTART:20201119T150000Z
DTEND:20201119T170000Z
CATEGORIES:webinar
LOCATION:PASTO-NARIÑO(COLOMBIA)- https://forms.gle/GAphNmiFesXUaUsX7
WEBSITE:https://forms.gle/GAphNmiFesXUaUsX7
URL:https://forms.gle/GAphNmiFesXUaUsX7
CONTACT:3154847302
ORGANIZER;CN="HUGO FERNANDO CEBALLOS GÓMEZ":https://reddolac.org/prof
 ile/HUGOFERNANDOCEBALLOSGOMEZ
ATTACH;FMTTYPE="image/jpeg":
ATTENDEE;ROLE=REQ-PARTICIPANT;PARTSTAT=ACCEPTED;RSVP=TRUE;CN="HUGO FER
 NANDO CEBALLOS GÓMEZ":https://reddolac.org/profile/HUGOFERNANDOCEBALL
 OSGOMEZ
END:VEVENT
END:VCALENDAR
