BEGIN:VCALENDAR
PRODID:NingEventWidget-v1
VERSION:2.0
METHOD:PUBLISH
BEGIN:VEVENT
UID:2709308:Event:490272
DTSTAMP:20260419T071153Z
SUMMARY:II FESTIVAL LITERARIO CALLAO 2015
DESCRIPTION:Escritores, cuentacuentos , declamadores visitan el Callao
 \n\nPara más información visita https://reddolac.org/events/ii-festi
 val-literario-callao-2015
DTSTART:20151030T130000Z
DTEND:20151030T230000Z
CATEGORIES:cultural
LOCATION:Callao
WEBSITE:https://www.facebook.com/events/677805602355783/
URL:https://www.facebook.com/events/677805602355783/
CONTACT:999832646
ORGANIZER;CN="Docente de Letras Julio Atencio":https://reddolac.org/pr
 ofile/JulioCesarAtenciovillanueva
ATTACH;FMTTYPE="image/jpeg":http://storage.ning.com/topology/rest/1.0/
 file/get/2826665947?profile=original
ATTENDEE;ROLE=REQ-PARTICIPANT;PARTSTAT=ACCEPTED;RSVP=TRUE;CN="Docente 
 de Letras Julio Atencio":https://reddolac.org/profile/JulioCesarAtenci
 ovillanueva
END:VEVENT
END:VCALENDAR
