BEGIN:VCALENDAR
PRODID:NingEventWidget-v1
VERSION:2.0
METHOD:PUBLISH
BEGIN:VEVENT
UID:2709308:Event:2273823
DTSTAMP:20260422T071223Z
SUMMARY:III Congreso Catatumbarí
DESCRIPTION:El 19 de noviembre a las 2:15 pm estaremos con el Director
  Técnico de Desarrollo Ehyder Barbosa y el Coordinador de Compras Pú
 blicas Edwin Insuati, de la Unidad Administrativa Especial de Organiza
 ciones Solidarias - UAEOS en el III Congreso Catatumbarí.Organizado p
 or la Universidad Francisco de Paula Santander. Cordialmente invitados
 \n\nPara más información visita https://reddolac.org/events/iii-cong
 reso-catatumbar
DTSTART:20201119T230000Z
DTEND:20201120T000000Z
CATEGORIES:congreso
LOCATION:Universidad Francisco de Paula Santander.
WEBSITE:
URL:
CONTACT:
ORGANIZER;CN="Dustin Tahisin Gómez Rodríguez":https://reddolac.org/p
 rofile/DUSTINTAHISINGOMEZRODRIGUEZ
ATTACH;FMTTYPE="image/jpeg":https://storage.ning.com/topology/rest/1.0
 /file/get/8162806272?profile=original
ATTENDEE;ROLE=REQ-PARTICIPANT;PARTSTAT=ACCEPTED;RSVP=TRUE;CN="Dustin T
 ahisin Gómez Rodríguez":https://reddolac.org/profile/DUSTINTAHISINGO
 MEZRODRIGUEZ
END:VEVENT
END:VCALENDAR
