BEGIN:VCALENDAR
PRODID:NingEventWidget-v1
VERSION:2.0
METHOD:PUBLISH
BEGIN:VEVENT
UID:2709308:Event:2273641
DTSTAMP:20260422T052747Z
SUMMARY:LA CIENCIA DE SER MUJER
DESCRIPTION:\n\nPara más información visita https://reddolac.org/eve
 nts/la-ciencia-de-ser-mujer
DTSTART:20201119T213000Z
DTEND:20201120T003000Z
CATEGORIES:webinar
LOCATION:UNIVERSIDAD ECCI
WEBSITE:
URL:
CONTACT:
ORGANIZER;CN="COLOMBIA SANDRA JARAMILLO BOTERO":https://reddolac.org/p
 rofile/COLOMBIASANDRAJARAMILLOBOTERO
ATTACH;FMTTYPE="image/jpeg":
ATTENDEE;ROLE=REQ-PARTICIPANT;PARTSTAT=ACCEPTED;RSVP=TRUE;CN="COLOMBIA
  SANDRA JARAMILLO BOTERO":https://reddolac.org/profile/COLOMBIASANDRAJ
 ARAMILLOBOTERO
END:VEVENT
END:VCALENDAR
