BEGIN:VCALENDAR
PRODID:NingEventWidget-v1
VERSION:2.0
METHOD:PUBLISH
BEGIN:VEVENT
UID:2709308:Event:2472751
DTSTAMP:20260419T124757Z
SUMMARY:Nuevas formas de educar y comunicar
DESCRIPTION:Nuevas formas de educar y comunicar 5 de septiembre de 202
 3 - 10 am - Virtual\nEn esta conferencia abordaremos los desafíos y o
 portunidades que presentan las nuevas tecnologías para los procesos d
 e enseñanza-aprendizaje. Contaremos con la participación de destacad
 os expertos que compartirán su visión sobre cómo debemos adaptar la
 s metodologías educativas a una sociedad hiperconectada. El objetivo 
 es reflexionar colectivamente sobre cómo integrar de forma efectiva l
 as nuevas herramientas digitales en el aula, sin perder de vista el de
 sarrollo integral de los estudiantes. Queremos escuchar sus experienci
 as e intercambiar ideas innovadoras para inspirarnos mutuamente en est
 e apasionante camino de transformación de la educación. Los esperamo
 s en este espacio de diálogo abierto y constructivo para explorar jun
 tos las nuevas formas de enseñar y aprender. Será una jornada muy en
 riquecedora para todos los participantes. ¡Los invitamos a ser protag
 onistas de este cambio!\nConferencista: Rómulo Andrés Gallego Torres
  ciiechd-entropiaeducativa.com\n\nPara más información visita https:
 //reddolac.org/events/nuevas-formas-de-educar-y-comunicar
DTSTART:20230905T150000Z
DTEND:20230905T170000Z
CATEGORIES:coversatorio
LOCATION:Virtual
WEBSITE:https://ciiechd-entropiaeducativa.com/eventos.html
URL:https://ciiechd-entropiaeducativa.com/eventos.html
CONTACT:
ORGANIZER;CN="Rómulo Andrés Gallego Torres":https://reddolac.org/pro
 file/RomuloAndresGallegoTorres
ATTACH;FMTTYPE="image/jpeg":
ATTENDEE;ROLE=REQ-PARTICIPANT;PARTSTAT=ACCEPTED;RSVP=TRUE;CN="Rómulo 
 Andrés Gallego Torres":https://reddolac.org/profile/RomuloAndresGalle
 goTorres
END:VEVENT
END:VCALENDAR
