BEGIN:VCALENDAR
PRODID:NingEventWidget-v1
VERSION:2.0
METHOD:PUBLISH
BEGIN:VEVENT
UID:2709308:Event:21970
DTSTAMP:20260420T044922Z
SUMMARY:NUTRICIÓN EN EL ENVEJECIMIENTO
DESCRIPTION:El Diplomado en NUTRICION EN EL ENVEJECIMEINTO, será a di
 stancia, se puede homolar en cualquier país, se entrega memorias en C
 D. El título lo otorga la FUNDACIÓN DE PROFESIONALES DE MEDICINA GER
 ONTOLÓGICA, Mayor información:\n\njorgeenriquemartinezcesar@hotmail.
 com\n\nPara más información visita https://reddolac.org/events/nutri
 cion-en-el-envejecimiento
DTSTART:20100405T230000Z
DTEND:20100406T000000Z
CATEGORIES:diplomado, en, nutricion, el, envejecimiento
LOCATION:AMERICA
WEBSITE:http://www.funmeda.com
URL:http://www.funmeda.com
CONTACT:CELULAR 315 735 9191
ORGANIZER;CN="JORGE ENRIQUE MARTINEZ CESAR":https://reddolac.org/profi
 le/JORGEENRIQUEMARTINEZCESAR
ATTACH;FMTTYPE="image/jpeg":
ATTENDEE;ROLE=REQ-PARTICIPANT;PARTSTAT=ACCEPTED;RSVP=TRUE;CN="JORGE EN
 RIQUE MARTINEZ CESAR":https://reddolac.org/profile/JORGEENRIQUEMARTINE
 ZCESAR
ATTENDEE;ROLE=REQ-PARTICIPANT;PARTSTAT=TENTATIVE;RSVP=TRUE;CN="Mary Lu
 z Prada Espinosa":https://reddolac.org/profile/MaryLuzPradaEspinosa
ATTENDEE;ROLE=REQ-PARTICIPANT;PARTSTAT=TENTATIVE;RSVP=TRUE;CN="carmen 
 elina cabarcas":https://reddolac.org/profile/carmenelinacabarcas
END:VEVENT
END:VCALENDAR
