BEGIN:VCALENDAR
PRODID:NingEventWidget-v1
VERSION:2.0
METHOD:PUBLISH
BEGIN:VEVENT
UID:2709308:Event:1462340
DTSTAMP:20260424T202644Z
SUMMARY:Seminario de Educación, Osorno, Chile
DESCRIPTION:Con agrado compartí relatoría junto a otros especialista
 s en la bella ciudad de Osorno, Chile. Organizado por la Fundación Au
 rora y el colegia William Booth de esta ciudad. Contamos con la partic
 iación de 130 docentes de la región, lindo escenario, gracias.\n\nPa
 ra más información visita https://reddolac.org/events/seminario-de-e
 ducaci-n-osorno-chile
DTSTART:20191022T050000Z
DTEND:20191023T045900Z
CATEGORIES:seminario, educativo
LOCATION:Osorno, Chile.
WEBSITE:
URL:
CONTACT:
ORGANIZER:Fundación Aurora
ATTACH;FMTTYPE="image/jpeg":https://storage.ning.com/topology/rest/1.0
 /file/get/3692547712?profile=original
ATTENDEE;ROLE=REQ-PARTICIPANT;PARTSTAT=ACCEPTED;RSVP=TRUE;CN="Oscar Ov
 idio Calzadilla Pérez":https://reddolac.org/profile/OscarOvidioCalzad
 illaPerez
END:VEVENT
END:VCALENDAR
