BEGIN:VCALENDAR
PRODID:NingEventWidget-v1
VERSION:2.0
METHOD:PUBLISH
BEGIN:VEVENT
UID:2709308:Event:2274047
DTSTAMP:20260422T091430Z
SUMMARY:Webinar gratuito 19 octubre 6.30 pm GERENCIA ESTRATEGICA
DESCRIPTION:http://bit.ly/accesowebinarceto\n\n\nPara más informació
 n visita https://reddolac.org/events/webinar-gratuito-19-octubre-6-30-
 pm-gerencia-estrategica
DTSTART:20201119T233000Z
DTEND:20201120T003000Z
CATEGORIES:webinar, gratuito
LOCATION:Santander
WEBSITE:
URL:
CONTACT:
ORGANIZER;CN="JULY ADRIANA GARZON VIASUS":https://reddolac.org/profile
 /JULYADRIANAGARZONVIASUS
ATTACH;FMTTYPE="image/jpeg":
ATTENDEE;ROLE=REQ-PARTICIPANT;PARTSTAT=ACCEPTED;RSVP=TRUE;CN="JULY ADR
 IANA GARZON VIASUS":https://reddolac.org/profile/JULYADRIANAGARZONVIAS
 US
END:VEVENT
END:VCALENDAR
