BEGIN:VCALENDAR
PRODID:NingEventWidget-v1
VERSION:2.0
METHOD:PUBLISH
BEGIN:VEVENT
UID:2709308:Event:2274212
DTSTAMP:20260422T071419Z
SUMMARY:webinar:HERRAMIENTAS CREATIVAS PARA DESARROLLAR PROYECTOS DE I
 MPACTO
DESCRIPTION:Seminario de Innovación social\n\nPara más información 
 visita https://reddolac.org/events/webinar-herramientas-creativas-para
 -desarrollar-proyectos-de
DTSTART:20201119T150000Z
DTEND:20201119T170000Z
CATEGORIES:webinar
LOCATION:https://forms.gle/GAphNmiFesXUaUsX7
WEBSITE:https://forms.gle/GAphNmiFesXUaUsX7
URL:https://forms.gle/GAphNmiFesXUaUsX7
CONTACT:
ORGANIZER;CN="HUGO FERNANDO CEBALLOS GÓMEZ":https://reddolac.org/prof
 ile/HUGOFERNANDOCEBALLOSGOMEZ
ATTACH;FMTTYPE="image/jpeg":https://storage.ning.com/topology/rest/1.0
 /file/get/8191874682?profile=original
ATTENDEE;ROLE=REQ-PARTICIPANT;PARTSTAT=ACCEPTED;RSVP=TRUE;CN="HUGO FER
 NANDO CEBALLOS GÓMEZ":https://reddolac.org/profile/HUGOFERNANDOCEBALL
 OSGOMEZ
END:VEVENT
END:VCALENDAR
